Workbook

Sheet CD
C1: FORMATO MAPA DE RIESGOS | W1: CÓDIGO: MC-F011
W2: VERSIÓN: 05
W3: VIGENTE DESDE: 18/01/2023
A5: IDENTIFICACIÓN DEL PROCESO
A6: Proceso | B6: Control Interno Disciplinario
A7: Tipo de proceso | B7: Apoyo | G7: Responsable del análisis: | H7: Director Administrativo y Financiero
A8: Objetivo del proceso | B8: Tramitar oportunamente las faltas disciplinarias de los trabajadores oficiales de la Empresa de servicios Públicos de Melgar EMPUMELGAR E.S.P., ante el incumplimiento de los deberes y/o cuando se presenten faltas a las prohibiciones establecidas dentro del reglamento interno de trabajo y demás normas concordantes, con el fin de buscar el mejoramiento continuo de la gestión.
A10: IDENTIFICACIÓN DEL RIESGO | H10: EVALUACIÓN DEL RIESGO INHERENTE | L10: EVALUACIÓN DEL RIESGO RESIDUAL | O10: CONTROLES | T10: OPCIONES DE TRATAMIENTO
A11: Código | B11: Descripción del riesgo (Ejemplo de eventos: Fallas, Incorrecta, Inoportuno, Inadecuado) | C11: Clase de Riesgo | D11: Causas del riesgo | G11: Asociado a Subsistema | H11: Efectos o Consecuencias (Ejemplo: Pérdida, Interrupción, Incumplimiento, Sanciones) | I11: Probabilidad | J11: Impacto | K11: Zona de riesgo inherente | L11: Probabilidad | M11: Impacto | N11: Zona de riesgo residual | O11: Detallado del Control | P11: Naturaleza del Control | Q11: Responsable del monitoreo | R11: Periodicidad del control | S11: Resultado de la evaluación del control | T11: Acciones de Tratamiento | U11: Responsable | V11: Fecha de ejecución (Fecha inicio - Fecha fin) | W11: Resultado Seguimiento | X11: Fecha de Seguimiento
D12: Contexto | E12: Factor | F12: Causa
A13: CD-R001 | B13: Inadecuado control en el tramite de la acción disciplinaria | C13: De Cumplimiento | D13: Interno | E13: Procesos | F13: Mora en el impulso procesal | G13: Gestión de Calidad | H13: Afectación en las sanciones disciplinarias debido al inadecuado control en el tramite de la acción disciplinaria | I13: 3. Posible | J13: 3. Moderado | K13: =IFERROR(VLOOKUP(I13,[1]DATOS!$L$2:$Q$6,MATCH(J13,[1]DATOS!$M$7:$Q$7,0)+1,0),"") -> Alta | L13: 3. Posible | M13: 2. Menor | N13: =IFERROR(VLOOKUP(L13,[1]DATOS!$L$2:$Q$6,MATCH(M13,[1]DATOS!$M$7:$Q$7,0)+1,0),"") -> Moderada | O13: Verificación de los términos legales | P13: Preventivo | Q13: Direccion administrativa y financiera | R13: =IFERROR(INDEX([1]DATOS!$T$3:$T$6,MATCH(CD!N13,[1]DATOS!$S$3:$S$6,0)),"") -> Trimestral | S13: Moderado | T13: Cumplimiento al procedimiento para aplicar faltas laborales | U13: Profesional de Apoyo a la Gestion Administrativa | V13: Enero 2025 - Dic 2025 | W13: No se recibieron informes de posibles faltas laborales | X13: Trimestral
D14: Del Proceso | E14: Personal | F14: incumplimiento de las etapas procesales | H14: Afectación en las sanciones disciplinarias debido al inadecuado control en el tramite de la acción disciplinaria | I14: 3. Posible | J14: 3. Moderado | K14: =IFERROR(VLOOKUP(I14,[1]DATOS!$L$2:$Q$6,MATCH(J14,[1]DATOS!$M$7:$Q$7,0)+1,0),"") -> Alta | L14: 3. Posible | M14: 2. Menor | N14: =IFERROR(VLOOKUP(L14,[1]DATOS!$L$2:$Q$6,MATCH(M14,[1]DATOS!$M$7:$Q$7,0)+1,0),"") -> Moderada | O14: Verificación del diligenciamiento del formato CD-F002 Informe Posible Falta Laboral | P14: Correctivo | R14: =IFERROR(INDEX([1]DATOS!$T$3:$T$6,MATCH(CD!N14,[1]DATOS!$S$3:$S$6,0)),"") -> Trimestral | S14: Débil | T14: Sensibilización de las faltas laborales en la inducción y reinducción | U14: Profesional de Apoyo a la Gestion Administrativa | V14: Enero 2025 - Dic 2025 | W14: Cumplimiento de las obligaciones contractuales | X14: Trimestral
D15: Interno | E15: Personal | F15: Falta de veracidad y demora en nula presentación de informes de posible falta laboral | H15: Afectación en las sanciones disciplinarias debido al inadecuado control en el tramite de la acción disciplinaria | I15: 3. Posible | J15: 3. Moderado | K15: =IFERROR(VLOOKUP(I15,[1]DATOS!$L$2:$Q$6,MATCH(J15,[1]DATOS!$M$7:$Q$7,0)+1,0),"") -> Alta | L15: 3. Posible | M15: 2. Menor | N15: =IFERROR(VLOOKUP(L15,[1]DATOS!$L$2:$Q$6,MATCH(M15,[1]DATOS!$M$7:$Q$7,0)+1,0),"") -> Moderada | O15: Capacitar a los Funcionarios que reportan faltas disciplinarias | P15: Preventivo | R15: =IFERROR(INDEX([1]DATOS!$T$3:$T$6,MATCH(CD!N15,[1]DATOS!$S$3:$S$6,0)),"") -> Trimestral | S15: =IFERROR(INDEX('[1]Evaluación de riesgos'!$P$7:$P$30,MATCH(CD!O15,'[1]Evaluación de riesgos'!$B$7:$B$30,0)),"") -> Débil | T15: Cumplimiento en los términos establecidos en el reglamento interno de trabajo | U15: Profesional de Apoyo a la Gestion Administrativa | V15: Enero 2025 - Dic 2025 | W15: Efectividad en el tramite | X15: Trimestral
D16: Interno | E16: Procesos | F16: Violación del debido proceso | H16: Afectación en las sanciones disciplinarias debido al inadecuado control en el tramite de la acción disciplinaria | I16: 3. Posible | J16: 3. Moderado | K16: =IFERROR(VLOOKUP(I16,[1]DATOS!$L$2:$Q$6,MATCH(J16,[1]DATOS!$M$7:$Q$7,0)+1,0),"") -> Alta | L16: 3. Posible | M16: 2. Menor | N16: =IFERROR(VLOOKUP(L16,[1]DATOS!$L$2:$Q$6,MATCH(M16,[1]DATOS!$M$7:$Q$7,0)+1,0),"") -> Moderada | O16: Aplicación del reglamento interno de trabajo | P16: Preventivo | R16: =IFERROR(INDEX([1]DATOS!$T$3:$T$6,MATCH(CD!N16,[1]DATOS!$S$3:$S$6,0)),"") -> Trimestral | S16: =IFERROR(INDEX('[1]Evaluación de riesgos'!$P$7:$P$30,MATCH(CD!O16,'[1]Evaluación de riesgos'!$B$7:$B$30,0)),"") -> Moderado | T16: Reinducciones a los colaboradores para socializar el reglamento interno de trabajo y e procedimiento de faltas laborales. | U16: Profesional de Apoyo a la Gestion Administrativa | V16: Enero 2025 - Dic 2025 | W16: Talento humano socializado con la información de faltas laborales | X16: Trimestral
K17: =IFERROR(VLOOKUP(I17,[1]DATOS!$L$2:$Q$6,MATCH(J17,[1]DATOS!$M$7:$Q$7,0)+1,0),"") | N17: =IFERROR(VLOOKUP(L17,[1]DATOS!$L$2:$Q$6,MATCH(M17,[1]DATOS!$M$7:$Q$7,0)+1,0),"") | R17: =IFERROR(INDEX([1]DATOS!$T$3:$T$6,MATCH(CD!N17,[1]DATOS!$S$3:$S$6,0)),"") | S17: =IFERROR(INDEX('[1]Evaluación de riesgos'!$P$9:$P$28,MATCH(CD!O17,'[1]Evaluación de riesgos'!$B$9:$B$28,0)),"")
K18: =IFERROR(VLOOKUP(I18,[1]DATOS!$L$2:$Q$6,MATCH(J18,[1]DATOS!$M$7:$Q$7,0)+1,0),"") | N18: =IFERROR(VLOOKUP(L18,[1]DATOS!$L$2:$Q$6,MATCH(M18,[1]DATOS!$M$7:$Q$7,0)+1,0),"") | R18: =IFERROR(INDEX([1]DATOS!$T$3:$T$6,MATCH(CD!N18,[1]DATOS!$S$3:$S$6,0)),"") | S18: =IFERROR(INDEX('[1]Evaluación de riesgos'!$P$9:$P$28,MATCH(CD!O18,'[1]Evaluación de riesgos'!$B$9:$B$28,0)),"")
K19: =IFERROR(VLOOKUP(I19,[1]DATOS!$L$2:$Q$6,MATCH(J19,[1]DATOS!$M$7:$Q$7,0)+1,0),"") | N19: =IFERROR(VLOOKUP(L19,[1]DATOS!$L$2:$Q$6,MATCH(M19,[1]DATOS!$M$7:$Q$7,0)+1,0),"") | R19: =IFERROR(INDEX([1]DATOS!$T$3:$T$6,MATCH(CD!N19,[1]DATOS!$S$3:$S$6,0)),"") | S19: =IFERROR(INDEX('[1]Evaluación de riesgos'!$P$9:$P$28,MATCH(CD!O19,'[1]Evaluación de riesgos'!$B$9:$B$28,0)),"")
K20: =IFERROR(VLOOKUP(I20,[1]DATOS!$L$2:$Q$6,MATCH(J20,[1]DATOS!$M$7:$Q$7,0)+1,0),"") | N20: =IFERROR(VLOOKUP(L20,[1]DATOS!$L$2:$Q$6,MATCH(M20,[1]DATOS!$M$7:$Q$7,0)+1,0),"") | R20: =IFERROR(INDEX([1]DATOS!$T$3:$T$6,MATCH(CD!N20,[1]DATOS!$S$3:$S$6,0)),"") | S20: =IFERROR(INDEX('[1]Evaluación de riesgos'!$P$9:$P$28,MATCH(CD!O20,'[1]Evaluación de riesgos'!$B$9:$B$28,0)),"")
K21: =IFERROR(VLOOKUP(I21,[1]DATOS!$L$2:$Q$6,MATCH(J21,[1]DATOS!$M$7:$Q$7,0)+1,0),"") | N21: =IFERROR(VLOOKUP(L21,[1]DATOS!$L$2:$Q$6,MATCH(M21,[1]DATOS!$M$7:$Q$7,0)+1,0),"") | R21: =IFERROR(INDEX([1]DATOS!$T$3:$T$6,MATCH(CD!N21,[1]DATOS!$S$3:$S$6,0)),"") | S21: =IFERROR(INDEX('[1]Evaluación de riesgos'!$P$9:$P$28,MATCH(CD!O21,'[1]Evaluación de riesgos'!$B$9:$B$28,0)),"")
K22: =IFERROR(VLOOKUP(I22,[1]DATOS!$L$2:$Q$6,MATCH(J22,[1]DATOS!$M$7:$Q$7,0)+1,0),"") | N22: =IFERROR(VLOOKUP(L22,[1]DATOS!$L$2:$Q$6,MATCH(M22,[1]DATOS!$M$7:$Q$7,0)+1,0),"") | R22: =IFERROR(INDEX([1]DATOS!$T$3:$T$6,MATCH(CD!N22,[1]DATOS!$S$3:$S$6,0)),"") | S22: =IFERROR(INDEX('[1]Evaluación de riesgos'!$P$9:$P$28,MATCH(CD!O22,'[1]Evaluación de riesgos'!$B$9:$B$28,0)),"")
K23: =IFERROR(VLOOKUP(I23,[1]DATOS!$L$2:$Q$6,MATCH(J23,[1]DATOS!$M$7:$Q$7,0)+1,0),"") | N23: =IFERROR(VLOOKUP(L23,[1]DATOS!$L$2:$Q$6,MATCH(M23,[1]DATOS!$M$7:$Q$7,0)+1,0),"") | R23: =IFERROR(INDEX([1]DATOS!$T$3:$T$6,MATCH(CD!N23,[1]DATOS!$S$3:$S$6,0)),"") | S23: =IFERROR(INDEX('[1]Evaluación de riesgos'!$P$9:$P$28,MATCH(CD!O23,'[1]Evaluación de riesgos'!$B$9:$B$28,0)),"")
K24: =IFERROR(VLOOKUP(I24,[1]DATOS!$L$2:$Q$6,MATCH(J24,[1]DATOS!$M$7:$Q$7,0)+1,0),"") | N24: =IFERROR(VLOOKUP(L24,[1]DATOS!$L$2:$Q$6,MATCH(M24,[1]DATOS!$M$7:$Q$7,0)+1,0),"") | R24: =IFERROR(INDEX([1]DATOS!$T$3:$T$6,MATCH(CD!N24,[1]DATOS!$S$3:$S$6,0)),"") | S24: =IFERROR(INDEX('[1]Evaluación de riesgos'!$P$9:$P$28,MATCH(CD!O24,'[1]Evaluación de riesgos'!$B$9:$B$28,0)),"")
K25: =IFERROR(VLOOKUP(I25,[1]DATOS!$L$2:$Q$6,MATCH(J25,[1]DATOS!$M$7:$Q$7,0)+1,0),"") | N25: =IFERROR(VLOOKUP(L25,[1]DATOS!$L$2:$Q$6,MATCH(M25,[1]DATOS!$M$7:$Q$7,0)+1,0),"") | R25: =IFERROR(INDEX([1]DATOS!$T$3:$T$6,MATCH(CD!N25,[1]DATOS!$S$3:$S$6,0)),"") | S25: =IFERROR(INDEX('[1]Evaluación de riesgos'!$P$9:$P$28,MATCH(CD!O25,'[1]Evaluación de riesgos'!$B$9:$B$28,0)),"")
K26: =IFERROR(VLOOKUP(I26,[1]DATOS!$L$2:$Q$6,MATCH(J26,[1]DATOS!$M$7:$Q$7,0)+1,0),"") | N26: =IFERROR(VLOOKUP(L26,[1]DATOS!$L$2:$Q$6,MATCH(M26,[1]DATOS!$M$7:$Q$7,0)+1,0),"") | R26: =IFERROR(INDEX([1]DATOS!$T$3:$T$6,MATCH(CD!N26,[1]DATOS!$S$3:$S$6,0)),"") | S26: =IFERROR(INDEX('[1]Evaluación de riesgos'!$P$9:$P$28,MATCH(CD!O26,'[1]Evaluación de riesgos'!$B$9:$B$28,0)),"")
K27: =IFERROR(VLOOKUP(I27,[1]DATOS!$L$2:$Q$6,MATCH(J27,[1]DATOS!$M$7:$Q$7,0)+1,0),"") | N27: =IFERROR(VLOOKUP(L27,[1]DATOS!$L$2:$Q$6,MATCH(M27,[1]DATOS!$M$7:$Q$7,0)+1,0),"") | R27: =IFERROR(INDEX([1]DATOS!$T$3:$T$6,MATCH(CD!N27,[1]DATOS!$S$3:$S$6,0)),"") | S27: =IFERROR(INDEX('[1]Evaluación de riesgos'!$P$9:$P$28,MATCH(CD!O27,'[1]Evaluación de riesgos'!$B$9:$B$28,0)),"")
K28: =IFERROR(VLOOKUP(I28,[1]DATOS!$L$2:$Q$6,MATCH(J28,[1]DATOS!$M$7:$Q$7,0)+1,0),"") | N28: =IFERROR(VLOOKUP(L28,[1]DATOS!$L$2:$Q$6,MATCH(M28,[1]DATOS!$M$7:$Q$7,0)+1,0),"") | R28: =IFERROR(INDEX([1]DATOS!$T$3:$T$6,MATCH(CD!N28,[1]DATOS!$S$3:$S$6,0)),"") | S28: =IFERROR(INDEX('[1]Evaluación de riesgos'!$P$9:$P$28,MATCH(CD!O28,'[1]Evaluación de riesgos'!$B$9:$B$28,0)),"")
... K158: =IFERROR(VLOOKUP(I158,[1]DATOS!$L$2:$Q$6,MATCH(J158,[1]DATOS!$M$7:$Q$7,0)+1,0),"") | N158: =IFERROR(VLOOKUP(L158,[1]DATOS!$L$2:$Q$6,MATCH(M158,[1]DATOS!$M$7:$Q$7,0)+1,0),"") | R158: =IFERROR(INDEX([1]DATOS!$T$3:$T$6,MATCH(CD!N158,[1]DATOS!$S$3:$S$6,0)),"") | S158: =IFERROR(INDEX('[1]Evaluación de riesgos'!$P$9:$P$28,MATCH(CD!O158,'[1]Evaluación de riesgos'!$B$9:$B$28,0)),"")

Sheet DE
C1: FORMATO MAPA DE RIESGOS | W1: CÓDIGO: MC-F015
W2: VERSIÓN: 03
W3: VIGENTE DESDE: 18/01/2023
A5: IDENTIFICACIÓN DEL PROCESO
A6: Proceso | B6: Direccionamiento Estratégico
A7: Tipo de proceso | B7: Estratégico | G7: Responsable del análisis: | H7: Gerente.
A8: Objetivo del proceso | B8: Definir los planes, políticas, programas y proyectos a corto, mediano y largo plazo, con criterios de sostenibilidad económica, social ambiental y responsabilidad social con el fin de lograr el mejoramiento continuo de los procesos y el cumplimiento de la misión institucional de la Empresa de Servicios públicos de Melgar de EMPUMELGAR E.S.P.
A10: IDENTIFICACIÓN DEL RIESGO | H10: EVALUACIÓN DEL RIESGO INHERENTE | L10: EVALUACIÓN DEL RIESGO RESIDUAL | O10: CONTROLES | T10: OPCIONES DE TRATAMIENTO
A11: Código | B11: Descripción del riesgo (Ejemplo de eventos: Fallas, Incorrecta, Inoportuno, Inadecuado) | C11: Clase de Riesgo | D11: Causas del riesgo | G11: Asociado a Subsistema | H11: Efectos o Consecuencias (Ejemplo: Pérdida, Interrupción, Incumplimiento, Sanciones) | I11: Probabilidad | J11: Impacto | K11: Zona de riesgo inherente | L11: Probabilidad | M11: Impacto | N11: Zona de riesgo residual | O11: Detallado del Control | P11: Naturaleza del Control | Q11: Responsable del monitoreo | R11: Periodicidad del control | S11: Resultado de la evaluación del control | T11: Acciones de Tratamiento | U11: Responsable | V11: Fecha de ejecución (Fecha inicio - Fecha fin) | W11: Resultado Seguimiento | X11: Fecha de Seguimiento
D12: Contexto | E12: Factor | F12: Causa
A13: DE-R001 | B13: Bajo nivel de apropiación del ejercicio de planeación en la Entidad. | C13: Estratégico | D13: Interno | E13: Procesos | F13: Falta de compromiso con la entidad y sus directrices. | G13: Gestión de Calidad | H13: Incumplimiento de directrices relacionadas con la planeación de la entidad. | I13: 3. Posible | J13: 4. Mayor | K13: =IFERROR(VLOOKUP(I13,[2]DATOS!$L$2:$Q$6,MATCH(J13,[2]DATOS!$M$7:$Q$7,0)+1,0),"") -> Extrema | L13: 3. Posible | M13: 3. Moderado | N13: =IFERROR(VLOOKUP(L13,[2]DATOS!$L$2:$Q$6,MATCH(M13,[2]DATOS!$M$7:$Q$7,0)+1,0),"") -> Alta | O13: Comités de seguimiento y sensibilizaciones a los funcionarios. | P13: Preventivo | Q13: Director Administrativo y Financiero. | R13: =IFERROR(INDEX([2]DATOS!$T$3:$T$6,MATCH(DE!N13,[2]DATOS!$S$3:$S$6,0)),"") -> Mensual | S13: ='[2]Evaluación de riesgos'!P9 -> Moderado | T13: Comités Directivos y mesas de trabajo donde se imparten instrucciones a los lideres de los procesos de acuerdo a lo establecido en la de la Plataforma Estratégica. | U13: Gerente | V13: Ene 2025 - Dic 2025 | W13: Comités - Mesas de trabajo realizadas | X13: Periódico.
D14: Interno | E14: Económico | F14: Falta de planeación de los proyectos y programas a corto, mediano y largo plazo. | T14: Comités Directivos con los lideres de los procesos donde realice seguimiento y monitoreo sobre el avance de las actividades fijadas a corto, mediano y largo plazo. | U14: Gerente | V14: Ene 2025 - Dic 2025 | W14: Actas de Comité | X14: Periódico
A15: DE-R002 | B15: Planeación estratégica de la Entidad orientada a validar requerimientos de un grupo específico. | C15: Estratégico | D15: Interno | E15: Procesos | F15: Preferencias a grupos específicos para favorecimientos. | G15: Gestión de Calidad | H15: Favorecimiento a un grupo especifico de la entidad, lo que genera desigualdad y gestión inapropiada en las áreas. | I15: 3. Posible | J15: 3. Moderado | K15: =IFERROR(VLOOKUP(I15,[2]DATOS!$L$2:$Q$6,MATCH(J15,[2]DATOS!$M$7:$Q$7,0)+1,0),"") -> Alta | L15: 3. Posible | M15: 2. Menor | N15: =IFERROR(VLOOKUP(L15,[2]DATOS!$L$2:$Q$6,MATCH(M15,[2]DATOS!$M$7:$Q$7,0)+1,0),"") -> Moderada | O15: Mesas de trabajo para sensibilización de la plataforma estratégica. | P15: Preventivo | Q15: Director Administrativo y Financiero. | R15: Periódico | S15: =IFERROR(INDEX('[2]Evaluación de riesgos'!$P$9:$P$32,MATCH(DE!O15,'[2]Evaluación de riesgos'!$B$9:$B$32,0)),"") -> Moderado | T15: Mesas de trabajo y sensibilización de la plataforma estratégica mediante una metodología participativa. | U15: Gerente | V15: Ene 2025 - Dic 2025 | W15: Funcionarios sensibilizados con respecto a la plataforma estratégica de la entidad. | X15: Periódico.
O16: Seguimiento al Plan Estratégico | P16: Preventivo | S16: Moderado | T16: Respuesta e implementación oportuna de las acciones a desarrollar con base en el plan estratégico. | U16: Gerente | V16: Ene 2025 - Dic 2025 | W16: Documentación actualizada con los lineamientos del Plan Estratégico. | X16: Periódico.
K17: =IFERROR(VLOOKUP(I17,[2]DATOS!$L$2:$Q$6,MATCH(J17,[2]DATOS!$M$7:$Q$7,0)+1,0),"") | N17: =IFERROR(VLOOKUP(L17,[2]DATOS!$L$2:$Q$6,MATCH(M17,[2]DATOS!$M$7:$Q$7,0)+1,0),"") | R17: =IFERROR(INDEX([2]DATOS!$T$3:$T$6,MATCH(DE!N17,[2]DATOS!$S$3:$S$6,0)),"") | S17: =IFERROR(INDEX('[2]Evaluación de riesgos'!$P$9:$P$32,MATCH(DE!O17,'[2]Evaluación de riesgos'!$B$9:$B$32,0)),"")
K18: =IFERROR(VLOOKUP(I18,[2]DATOS!$L$2:$Q$6,MATCH(J18,[2]DATOS!$M$7:$Q$7,0)+1,0),"") | N18: =IFERROR(VLOOKUP(L18,[2]DATOS!$L$2:$Q$6,MATCH(M18,[2]DATOS!$M$7:$Q$7,0)+1,0),"") | R18: =IFERROR(INDEX([2]DATOS!$T$3:$T$6,MATCH(DE!N18,[2]DATOS!$S$3:$S$6,0)),"") | S18: =IFERROR(INDEX('[2]Evaluación de riesgos'!$P$9:$P$32,MATCH(DE!O18,'[2]Evaluación de riesgos'!$B$9:$B$32,0)),"")
K19: =IFERROR(VLOOKUP(I19,[2]DATOS!$L$2:$Q$6,MATCH(J19,[2]DATOS!$M$7:$Q$7,0)+1,0),"") | N19: =IFERROR(VLOOKUP(L19,[2]DATOS!$L$2:$Q$6,MATCH(M19,[2]DATOS!$M$7:$Q$7,0)+1,0),"") | R19: =IFERROR(INDEX([2]DATOS!$T$3:$T$6,MATCH(DE!N19,[2]DATOS!$S$3:$S$6,0)),"") | S19: =IFERROR(INDEX('[2]Evaluación de riesgos'!$P$9:$P$32,MATCH(DE!O19,'[2]Evaluación de riesgos'!$B$9:$B$32,0)),"")
K20: =IFERROR(VLOOKUP(I20,[2]DATOS!$L$2:$Q$6,MATCH(J20,[2]DATOS!$M$7:$Q$7,0)+1,0),"") | N20: =IFERROR(VLOOKUP(L20,[2]DATOS!$L$2:$Q$6,MATCH(M20,[2]DATOS!$M$7:$Q$7,0)+1,0),"") | R20: =IFERROR(INDEX([2]DATOS!$T$3:$T$6,MATCH(DE!N20,[2]DATOS!$S$3:$S$6,0)),"") | S20: =IFERROR(INDEX('[2]Evaluación de riesgos'!$P$9:$P$32,MATCH(DE!O20,'[2]Evaluación de riesgos'!$B$9:$B$32,0)),"")
K21: =IFERROR(VLOOKUP(I21,[2]DATOS!$L$2:$Q$6,MATCH(J21,[2]DATOS!$M$7:$Q$7,0)+1,0),"") | N21: =IFERROR(VLOOKUP(L21,[2]DATOS!$L$2:$Q$6,MATCH(M21,[2]DATOS!$M$7:$Q$7,0)+1,0),"") | R21: =IFERROR(INDEX([2]DATOS!$T$3:$T$6,MATCH(DE!N21,[2]DATOS!$S$3:$S$6,0)),"") | S21: =IFERROR(INDEX('[2]Evaluación de riesgos'!$P$9:$P$32,MATCH(DE!O21,'[2]Evaluación de riesgos'!$B$9:$B$32,0)),"")
K22: =IFERROR(VLOOKUP(I22,[2]DATOS!$L$2:$Q$6,MATCH(J22,[2]DATOS!$M$7:$Q$7,0)+1,0),"") | N22: =IFERROR(VLOOKUP(L22,[2]DATOS!$L$2:$Q$6,MATCH(M22,[2]DATOS!$M$7:$Q$7,0)+1,0),"") | R22: =IFERROR(INDEX([2]DATOS!$T$3:$T$6,MATCH(DE!N22,[2]DATOS!$S$3:$S$6,0)),"") | S22: =IFERROR(INDEX('[2]Evaluación de riesgos'!$P$9:$P$32,MATCH(DE!O22,'[2]Evaluación de riesgos'!$B$9:$B$32,0)),"")
K23: =IFERROR(VLOOKUP(I23,[2]DATOS!$L$2:$Q$6,MATCH(J23,[2]DATOS!$M$7:$Q$7,0)+1,0),"") | N23: =IFERROR(VLOOKUP(L23,[2]DATOS!$L$2:$Q$6,MATCH(M23,[2]DATOS!$M$7:$Q$7,0)+1,0),"") | R23: =IFERROR(INDEX([2]DATOS!$T$3:$T$6,MATCH(DE!N23,[2]DATOS!$S$3:$S$6,0)),"") | S23: =IFERROR(INDEX('[2]Evaluación de riesgos'!$P$9:$P$32,MATCH(DE!O23,'[2]Evaluación de riesgos'!$B$9:$B$32,0)),"")
K24: =IFERROR(VLOOKUP(I24,[2]DATOS!$L$2:$Q$6,MATCH(J24,[2]DATOS!$M$7:$Q$7,0)+1,0),"") | N24: =IFERROR(VLOOKUP(L24,[2]DATOS!$L$2:$Q$6,MATCH(M24,[2]DATOS!$M$7:$Q$7,0)+1,0),"") | R24: =IFERROR(INDEX([2]DATOS!$T$3:$T$6,MATCH(DE!N24,[2]DATOS!$S$3:$S$6,0)),"") | S24: =IFERROR(INDEX('[2]Evaluación de riesgos'!$P$9:$P$32,MATCH(DE!O24,'[2]Evaluación de riesgos'!$B$9:$B$32,0)),"")
K25: =IFERROR(VLOOKUP(I25,[2]DATOS!$L$2:$Q$6,MATCH(J25,[2]DATOS!$M$7:$Q$7,0)+1,0),"") | N25: =IFERROR(VLOOKUP(L25,[2]DATOS!$L$2:$Q$6,MATCH(M25,[2]DATOS!$M$7:$Q$7,0)+1,0),"") | R25: =IFERROR(INDEX([2]DATOS!$T$3:$T$6,MATCH(DE!N25,[2]DATOS!$S$3:$S$6,0)),"") | S25: =IFERROR(INDEX('[2]Evaluación de riesgos'!$P$9:$P$32,MATCH(DE!O25,'[2]Evaluación de riesgos'!$B$9:$B$32,0)),"")
K26: =IFERROR(VLOOKUP(I26,[2]DATOS!$L$2:$Q$6,MATCH(J26,[2]DATOS!$M$7:$Q$7,0)+1,0),"") | N26: =IFERROR(VLOOKUP(L26,[2]DATOS!$L$2:$Q$6,MATCH(M26,[2]DATOS!$M$7:$Q$7,0)+1,0),"") | R26: =IFERROR(INDEX([2]DATOS!$T$3:$T$6,MATCH(DE!N26,[2]DATOS!$S$3:$S$6,0)),"") | S26: =IFERROR(INDEX('[2]Evaluación de riesgos'!$P$9:$P$32,MATCH(DE!O26,'[2]Evaluación de riesgos'!$B$9:$B$32,0)),"")
K27: =IFERROR(VLOOKUP(I27,[2]DATOS!$L$2:$Q$6,MATCH(J27,[2]DATOS!$M$7:$Q$7,0)+1,0),"") | N27: =IFERROR(VLOOKUP(L27,[2]DATOS!$L$2:$Q$6,MATCH(M27,[2]DATOS!$M$7:$Q$7,0)+1,0),"") | R27: =IFERROR(INDEX([2]DATOS!$T$3:$T$6,MATCH(DE!N27,[2]DATOS!$S$3:$S$6,0)),"") | S27: =IFERROR(INDEX('[2]Evaluación de riesgos'!$P$9:$P$32,MATCH(DE!O27,'[2]Evaluación de riesgos'!$B$9:$B$32,0)),"")
K28: =IFERROR(VLOOKUP(I28,[2]DATOS!$L$2:$Q$6,MATCH(J28,[2]DATOS!$M$7:$Q$7,0)+1,0),"") | N28: =IFERROR(VLOOKUP(L28,[2]DATOS!$L$2:$Q$6,MATCH(M28,[2]DATOS!$M$7:$Q$7,0)+1,0),"") | R28: =IFERROR(INDEX([2]DATOS!$T$3:$T$6,MATCH(DE!N28,[2]DATOS!$S$3:$S$6,0)),"") | S28: =IFERROR(INDEX('[2]Evaluación de riesgos'!$P$9:$P$32,MATCH(DE!O28,'[2]Evaluación de riesgos'!$B$9:$B$32,0)),"")
... K162: =IFERROR(VLOOKUP(I162,[2]DATOS!$L$2:$Q$6,MATCH(J162,[2]DATOS!$M$7:$Q$7,0)+1,0),"") | N162: =IFERROR(VLOOKUP(L162,[2]DATOS!$L$2:$Q$6,MATCH(M162,[2]DATOS!$M$7:$Q$7,0)+1,0),"") | R162: =IFERROR(INDEX([2]DATOS!$T$3:$T$6,MATCH(DE!N162,[2]DATOS!$S$3:$S$6,0)),"") | S162: =IFERROR(INDEX('[2]Evaluación de riesgos'!$P$9:$P$32,MATCH(DE!O162,'[2]Evaluación de riesgos'!$B$9:$B$32,0)),"")

Sheet EI
C1: FORMATO MAPA DE RIESGOS | W1: CÓDIGO: MC-F011
W2: VERSIÓN: 05
W3: VIGENTE DESDE: 18/01/2023
A5: IDENTIFICACIÓN DEL PROCESO
A6: Proceso | B6: Evaluación Institucional
A7: Tipo de proceso | B7: Evaluación Institucional | G7: Responsable del análisis: | H7: Oficina de Control Interno
A8: Objetivo del proceso | B8: Definir los planes, políticas, programas y proyectos a corto, mediano y largo plazo, con criterios de sostenibilidad económica, social ambiental y responsabilidad social con el fin de lograr el mejoramiento continuo de los procesos y el cumplimiento de la misión institucional de la Empresa de Servicios públicos de Melgar de EMPUMELGAR E.S.P.
A10: IDENTIFICACIÓN DEL RIESGO | H10: EVALUACIÓN DEL RIESGO INHERENTE | L10: EVALUACIÓN DEL RIESGO RESIDUAL | O10: CONTROLES | T10: OPCIONES DE TRATAMIENTO
A11: Código | B11: Descripción del riesgo (Ejemplo de eventos: Fallas, Incorrecta, Inoportuno, Inadecuado) | C11: Clase de Riesgo | D11: Causas del riesgo | G11: Asociado a Subsistema | H11: Efectos o Consecuencias (Ejemplo: Pérdida, Interrupción, Incumplimiento, Sanciones) | I11: Probabilidad | J11: Impacto | K11: Zona de riesgo inherente | L11: Probabilidad | M11: Impacto | N11: Zona de riesgo residual | O11: Detallado del Control | P11: Naturaleza del Control | Q11: Responsable del monitoreo | R11: Periodicidad del control | S11: Resultado de la evaluación del control | T11: Acciones de Tratamiento | U11: Responsable | V11: Fecha de ejecución (Fecha inicio - Fecha fin) | W11: Resultado Seguimiento | X11: Fecha de Seguimiento
D12: Contexto | E12: Factor | F12: Causa
A13: EI-R001 | B13: Presentación extemporánea de informes de control interno a entes de control y partes interesadas | C13: De Cumplimiento | D13: Del Proceso | E13: Procesos | F13: Inexistencia de un cronograma que establezca los informes que deben presentarse con los términos respectivos | G13: Seguridad de la Información | H13: Sanciones para la entidad. Pérdida de imagen institucional. | I13: 1. Rara Vez | J13: 3. Moderado | K13: =IFERROR(VLOOKUP(I13,[3]DATOS!$L$2:$Q$6,MATCH(J13,[3]DATOS!$M$7:$Q$7,0)+1,0),"") -> Moderada | L13: 1. Rara Vez | M13: 2. Menor | N13: =IFERROR(VLOOKUP(L13,[3]DATOS!$L$2:$Q$6,MATCH(M13,[3]DATOS!$M$7:$Q$7,0)+1,0),"") -> Baja | O13: Elaborar un cronograma con los informes que deben presentarse y los términos de presentación. | P13: Preventivo | Q13: Julie Mabel Reyes Torres | R13: Trimestral | S13: =IFERROR(INDEX('[3]Evaluación de riesgos'!$P$9:$P$28,MATCH(EI!O13,'[3]Evaluación de riesgos'!$B$9:$B$28,0)),"") -> Moderado | T13: Creación del cronograma atendiendo a los lineamiento de entes de control y seguimiento para verificar el cumplimiento de fechas | U13: Director Evaluación Institucional | V13: Enero a Diciembre de 2025 | W13: entrega de información a tiempo | X13: Periódico.
A14: EI-R002 | B14: Incumplimiento con el programa de Auditorias Internas de gestión | C14: De Cumplimiento | D14: Del Proceso | E14: Personal | F14: no contar con el recurso humano de apoyo y la documentación necesaria a tiempo para llevar a cabo las auditorias | G14: Seguridad de la Información | H14: Afectación al Modelo Estándar de Control interno para el cumplimiento de los roles y desarrollo de los componentes de acuerdo a la normativa pertinente. Incumplimiento con nuestro Sistema de Calidad | I14: 3. Posible | J14: 3. Moderado | K14: =IFERROR(VLOOKUP(I14,[3]DATOS!$L$2:$Q$6,MATCH(J14,[3]DATOS!$M$7:$Q$7,0)+1,0),"") -> Alta | L14: 3. Posible | M14: 2. Menor | N14: =IFERROR(VLOOKUP(L14,[3]DATOS!$L$2:$Q$6,MATCH(M14,[3]DATOS!$M$7:$Q$7,0)+1,0),"") -> Moderada | O14: Conformar el grupo de auditoria de la entidad | P14: Preventivo | Q14: Julie Mabel Reyes Torres | R14: =IFERROR(INDEX([3]DATOS!$T$3:$T$6,MATCH(EI!N14,[3]DATOS!$S$3:$S$6,0)),"") -> Trimestral | S14: =IFERROR(INDEX('[3]Evaluación de riesgos'!$P$9:$P$28,MATCH(EI!O14,'[3]Evaluación de riesgos'!$B$9:$B$28,0)),"") -> Débil | T14: personal de apoyo para llevar a cabo las auditorias | U14: Director Evaluación Institucional | V14: Enero a Diciembre de 2025 | W14: auditorias internas de gestión a todos los procesos | X14: Periódico.
A15: EI-R003 | B15: Incumplimiento con el código de ética del servidor publico | C15: Estratégico | D15: Interno | E15: Personal | F15: inexistencia y adopción del código de ética del auditor | G15: Seguridad de la Información | H15: mala praxis del profesional, conflicto de intereses y perdida de la credibilidad y confiabilidad en el desarrollo de labores del profesional a cargo | I15: 3. Posible | J15: 3. Moderado | K15: =IFERROR(VLOOKUP(I15,[3]DATOS!$L$2:$Q$6,MATCH(J15,[3]DATOS!$M$7:$Q$7,0)+1,0),"") -> Alta | L15: 3. Posible | M15: 2. Menor | N15: =IFERROR(VLOOKUP(L15,[3]DATOS!$L$2:$Q$6,MATCH(M15,[3]DATOS!$M$7:$Q$7,0)+1,0),"") -> Moderada | O15: Actualización del código de ética del auditor conforme a los lineamientos establecidos por la Función Publica. | P15: Correctivo | Q15: Julie Mabel Reyes Torres | R15: =IFERROR(INDEX([3]DATOS!$T$3:$T$6,MATCH(EI!N15,[3]DATOS!$S$3:$S$6,0)),"") -> Trimestral | S15: =IFERROR(INDEX('[3]Evaluación de riesgos'!$P$9:$P$28,MATCH(EI!O15,'[3]Evaluación de riesgos'!$B$9:$B$28,0)),"") -> Moderado | T15: actualizar el código de ética del auditor Resolución 120 de 2018 | U15: Director Evaluación Institucional | V15: Enero a Diciembre de 2025 | W15: Integridad y Objetividad del Funcionario Publico | X15: Periódico.
K16: =IFERROR(VLOOKUP(I16,[3]DATOS!$L$2:$Q$6,MATCH(J16,[3]DATOS!$M$7:$Q$7,0)+1,0),"") | N16: =IFERROR(VLOOKUP(L16,[3]DATOS!$L$2:$Q$6,MATCH(M16,[3]DATOS!$M$7:$Q$7,0)+1,0),"") | R16: =IFERROR(INDEX([3]DATOS!$T$3:$T$6,MATCH(EI!N16,[3]DATOS!$S$3:$S$6,0)),"") | S16: =IFERROR(INDEX('[3]Evaluación de riesgos'!$P$9:$P$28,MATCH(EI!O16,'[3]Evaluación de riesgos'!$B$9:$B$28,0)),"")
K17: =IFERROR(VLOOKUP(I17,[3]DATOS!$L$2:$Q$6,MATCH(J17,[3]DATOS!$M$7:$Q$7,0)+1,0),"") | N17: =IFERROR(VLOOKUP(L17,[3]DATOS!$L$2:$Q$6,MATCH(M17,[3]DATOS!$M$7:$Q$7,0)+1,0),"") | R17: =IFERROR(INDEX([3]DATOS!$T$3:$T$6,MATCH(EI!N17,[3]DATOS!$S$3:$S$6,0)),"") | S17: =IFERROR(INDEX('[3]Evaluación de riesgos'!$P$9:$P$28,MATCH(EI!O17,'[3]Evaluación de riesgos'!$B$9:$B$28,0)),"")
K18: =IFERROR(VLOOKUP(I18,[3]DATOS!$L$2:$Q$6,MATCH(J18,[3]DATOS!$M$7:$Q$7,0)+1,0),"") | N18: =IFERROR(VLOOKUP(L18,[3]DATOS!$L$2:$Q$6,MATCH(M18,[3]DATOS!$M$7:$Q$7,0)+1,0),"") | R18: =IFERROR(INDEX([3]DATOS!$T$3:$T$6,MATCH(EI!N18,[3]DATOS!$S$3:$S$6,0)),"") | S18: =IFERROR(INDEX('[3]Evaluación de riesgos'!$P$9:$P$28,MATCH(EI!O18,'[3]Evaluación de riesgos'!$B$9:$B$28,0)),"")
K19: =IFERROR(VLOOKUP(I19,[3]DATOS!$L$2:$Q$6,MATCH(J19,[3]DATOS!$M$7:$Q$7,0)+1,0),"") | N19: =IFERROR(VLOOKUP(L19,[3]DATOS!$L$2:$Q$6,MATCH(M19,[3]DATOS!$M$7:$Q$7,0)+1,0),"") | R19: =IFERROR(INDEX([3]DATOS!$T$3:$T$6,MATCH(EI!N19,[3]DATOS!$S$3:$S$6,0)),"") | S19: =IFERROR(INDEX('[3]Evaluación de riesgos'!$P$9:$P$28,MATCH(EI!O19,'[3]Evaluación de riesgos'!$B$9:$B$28,0)),"")
K20: =IFERROR(VLOOKUP(I20,[3]DATOS!$L$2:$Q$6,MATCH(J20,[3]DATOS!$M$7:$Q$7,0)+1,0),"") | N20: =IFERROR(VLOOKUP(L20,[3]DATOS!$L$2:$Q$6,MATCH(M20,[3]DATOS!$M$7:$Q$7,0)+1,0),"") | R20: =IFERROR(INDEX([3]DATOS!$T$3:$T$6,MATCH(EI!N20,[3]DATOS!$S$3:$S$6,0)),"") | S20: =IFERROR(INDEX('[3]Evaluación de riesgos'!$P$9:$P$28,MATCH(EI!O20,'[3]Evaluación de riesgos'!$B$9:$B$28,0)),"")
K21: =IFERROR(VLOOKUP(I21,[3]DATOS!$L$2:$Q$6,MATCH(J21,[3]DATOS!$M$7:$Q$7,0)+1,0),"") | N21: =IFERROR(VLOOKUP(L21,[3]DATOS!$L$2:$Q$6,MATCH(M21,[3]DATOS!$M$7:$Q$7,0)+1,0),"") | R21: =IFERROR(INDEX([3]DATOS!$T$3:$T$6,MATCH(EI!N21,[3]DATOS!$S$3:$S$6,0)),"") | S21: =IFERROR(INDEX('[3]Evaluación de riesgos'!$P$9:$P$28,MATCH(EI!O21,'[3]Evaluación de riesgos'!$B$9:$B$28,0)),"")
K22: =IFERROR(VLOOKUP(I22,[3]DATOS!$L$2:$Q$6,MATCH(J22,[3]DATOS!$M$7:$Q$7,0)+1,0),"") | N22: =IFERROR(VLOOKUP(L22,[3]DATOS!$L$2:$Q$6,MATCH(M22,[3]DATOS!$M$7:$Q$7,0)+1,0),"") | R22: =IFERROR(INDEX([3]DATOS!$T$3:$T$6,MATCH(EI!N22,[3]DATOS!$S$3:$S$6,0)),"") | S22: =IFERROR(INDEX('[3]Evaluación de riesgos'!$P$9:$P$28,MATCH(EI!O22,'[3]Evaluación de riesgos'!$B$9:$B$28,0)),"")
K23: =IFERROR(VLOOKUP(I23,[3]DATOS!$L$2:$Q$6,MATCH(J23,[3]DATOS!$M$7:$Q$7,0)+1,0),"") | N23: =IFERROR(VLOOKUP(L23,[3]DATOS!$L$2:$Q$6,MATCH(M23,[3]DATOS!$M$7:$Q$7,0)+1,0),"") | R23: =IFERROR(INDEX([3]DATOS!$T$3:$T$6,MATCH(EI!N23,[3]DATOS!$S$3:$S$6,0)),"") | S23: =IFERROR(INDEX('[3]Evaluación de riesgos'!$P$9:$P$28,MATCH(EI!O23,'[3]Evaluación de riesgos'!$B$9:$B$28,0)),"")
K24: =IFERROR(VLOOKUP(I24,[3]DATOS!$L$2:$Q$6,MATCH(J24,[3]DATOS!$M$7:$Q$7,0)+1,0),"") | N24: =IFERROR(VLOOKUP(L24,[3]DATOS!$L$2:$Q$6,MATCH(M24,[3]DATOS!$M$7:$Q$7,0)+1,0),"") | R24: =IFERROR(INDEX([3]DATOS!$T$3:$T$6,MATCH(EI!N24,[3]DATOS!$S$3:$S$6,0)),"") | S24: =IFERROR(INDEX('[3]Evaluación de riesgos'!$P$9:$P$28,MATCH(EI!O24,'[3]Evaluación de riesgos'!$B$9:$B$28,0)),"")
K25: =IFERROR(VLOOKUP(I25,[3]DATOS!$L$2:$Q$6,MATCH(J25,[3]DATOS!$M$7:$Q$7,0)+1,0),"") | N25: =IFERROR(VLOOKUP(L25,[3]DATOS!$L$2:$Q$6,MATCH(M25,[3]DATOS!$M$7:$Q$7,0)+1,0),"") | R25: =IFERROR(INDEX([3]DATOS!$T$3:$T$6,MATCH(EI!N25,[3]DATOS!$S$3:$S$6,0)),"") | S25: =IFERROR(INDEX('[3]Evaluación de riesgos'!$P$9:$P$28,MATCH(EI!O25,'[3]Evaluación de riesgos'!$B$9:$B$28,0)),"")
K26: =IFERROR(VLOOKUP(I26,[3]DATOS!$L$2:$Q$6,MATCH(J26,[3]DATOS!$M$7:$Q$7,0)+1,0),"") | N26: =IFERROR(VLOOKUP(L26,[3]DATOS!$L$2:$Q$6,MATCH(M26,[3]DATOS!$M$7:$Q$7,0)+1,0),"") | R26: =IFERROR(INDEX([3]DATOS!$T$3:$T$6,MATCH(EI!N26,[3]DATOS!$S$3:$S$6,0)),"") | S26: =IFERROR(INDEX('[3]Evaluación de riesgos'!$P$9:$P$28,MATCH(EI!O26,'[3]Evaluación de riesgos'!$B$9:$B$28,0)),"")
K27: =IFERROR(VLOOKUP(I27,[3]DATOS!$L$2:$Q$6,MATCH(J27,[3]DATOS!$M$7:$Q$7,0)+1,0),"") | N27: =IFERROR(VLOOKUP(L27,[3]DATOS!$L$2:$Q$6,MATCH(M27,[3]DATOS!$M$7:$Q$7,0)+1,0),"") | R27: =IFERROR(INDEX([3]DATOS!$T$3:$T$6,MATCH(EI!N27,[3]DATOS!$S$3:$S$6,0)),"") | S27: =IFERROR(INDEX('[3]Evaluación de riesgos'!$P$9:$P$28,MATCH(EI!O27,'[3]Evaluación de riesgos'!$B$9:$B$28,0)),"")
... K158: =IFERROR(VLOOKUP(I158,[3]DATOS!$L$2:$Q$6,MATCH(J158,[3]DATOS!$M$7:$Q$7,0)+1,0),"") | N158: =IFERROR(VLOOKUP(L158,[3]DATOS!$L$2:$Q$6,MATCH(M158,[3]DATOS!$M$7:$Q$7,0)+1,0),"") | R158: =IFERROR(INDEX([3]DATOS!$T$3:$T$6,MATCH(EI!N158,[3]DATOS!$S$3:$S$6,0)),"") | S158: =IFERROR(INDEX('[3]Evaluación de riesgos'!$P$9:$P$28,MATCH(EI!O158,'[3]Evaluación de riesgos'!$B$9:$B$28,0)),"")

Sheet GA
C1: FORMATO MAPA DE RIESGOS | W1: CÓDIGO: MC-F011
W2: VERSIÓN: 05
W3: VIGENTE DESDE: 18/01/2023
A5: IDENTIFICACIÓN DEL PROCESO
A6: Proceso | B6: Gestión Ambiental
A7: Tipo de proceso | B7: Apoyo | G7: Responsable del análisis: | H7: Director(a) Planeación, Calidad y Desarrollo Corporativo
A8: Objetivo del proceso | B8: Definir los planes, políticas, programas y proyectos a corto, mediano y largo plazo, con criterios de sostenibilidad económica, social ambiental y responsabilidad social con el fin de lograr el mejoramiento continuo de los procesos y el cumplimiento de la misión institucional de la Empresa de Servicios públicos de Melgar de EMPUMELGAR E.S.P.
A10: IDENTIFICACIÓN DEL RIESGO | H10: EVALUACIÓN DEL RIESGO INHERENTE | L10: EVALUACIÓN DEL RIESGO RESIDUAL | O10: CONTROLES | T10: OPCIONES DE TRATAMIENTO
A11: Código | B11: Descripción del riesgo (Ejemplo de eventos: Fallas, Incorrecta, Inoportuno, Inadecuado) | C11: Clase de Riesgo | D11: Causas del riesgo | G11: Asociado a Subsistema | H11: Efectos o Consecuencias (Ejemplo: Pérdida, Interrupción, Incumplimiento, Sanciones) | I11: Probabilidad | J11: Impacto | K11: Zona de riesgo inherente | L11: Probabilidad | M11: Impacto | N11: Zona de riesgo residual | O11: Detallado del Control | P11: Naturaleza del Control | Q11: Responsable del monitoreo | R11: Periodicidad del control | S11: Resultado de la evaluación del control | T11: Acciones de Tratamiento | U11: Responsable | V11: Fecha de ejecución (Fecha inicio - Fecha fin) | W11: Resultado Seguimiento | X11: Fecha de Seguimiento
D12: Contexto | E12: Factor | F12: Causa
A13: GA-R001 | B13: Inadecuada e inoportuna identificación de requisitos legales aplicables a la entidad en cuanto a la gestión ambiental. | C13: De Cumplimiento | D13: Interno | E13: Procesos | F13: Falta de capacitación y control en la legislación aplicable a la entidad en cuanto a su gestión ambiental | G13: Gestión Ambiental | H13: Incumplimiento de las normas legales aplicables de gestión ambiental en la entidad. | I13: 3. Posible | J13: 3. Moderado | K13: =IFERROR(VLOOKUP(I13,[4]DATOS!$L$2:$Q$6,MATCH(J13,[4]DATOS!$M$7:$Q$7,0)+1,0),"") -> Alta | L13: 3. Posible | M13: 2. Menor | N13: =IFERROR(VLOOKUP(L13,[4]DATOS!$L$2:$Q$6,MATCH(M13,[4]DATOS!$M$7:$Q$7,0)+1,0),"") -> Moderada | O13: Revisión y actualización de las normas aplicables al sistema de gestión ambiental | P13: Preventivo | Q13: Directora de regulación, calidad y medio ambiente | R13: Trimestral | S13: Moderado | T13: Sensibilizaciones y capacitaciones al personal de la entidad, por parte de la gestión ambiental de la empresa | U13: Directora de regulación, calidad y medio ambiente | V13: Enero 2025 - Diciembre 2025 | W13: Funcionarios Capacitados | X13: Periódico
A14: GA-R002 | B14: Inadecuado uso de los recursos (Hídrico y energético). | C14: De Cumplimiento | D14: Interno | E14: Procesos | F14: Falta de capacitación y sensibilización sobre el uso eficiente de los recursos | G14: Gestión Ambiental | H14: Consumo elevado de los recursos | I14: 3. Posible | J14: 3. Moderado | K14: =IFERROR(VLOOKUP(I14,[4]DATOS!$L$2:$Q$6,MATCH(J14,[4]DATOS!$M$7:$Q$7,0)+1,0),"") -> Alta | L14: 3. Posible | M14: 2. Menor | N14: =IFERROR(VLOOKUP(L14,[4]DATOS!$L$2:$Q$6,MATCH(M14,[4]DATOS!$M$7:$Q$7,0)+1,0),"") -> Moderada | O14: Charlas de sensibilización y concienciación de las buenas practicas ambientales en la entidad | P14: Preventivo | Q14: Directora de regulación, calidad y medio ambiente | R14: Trimestral | S14: Moderado | T14: Charlas de sensibilización y concienciación en el consumo. | U14: Directora de regulación, calidad y medio ambiente | V14: Enero 2025 - Diciembre 2025 | W14: Funcionarios Capacitados | X14: Periódico
C15: De Cumplimiento | D15: Interno | E15: Procesos | F15: Incumplimiento a los seguimientos semestrales de los consumos | G15: Gestión Ambiental | H15: Consumo elevado de los recursos | I15: 3. Posible | J15: 3. Moderado | K15: =IFERROR(VLOOKUP(I15,[4]DATOS!$L$2:$Q$6,MATCH(J15,[4]DATOS!$M$7:$Q$7,0)+1,0),"") -> Alta | L15: 3. Posible | M15: 2. Menor | N15: =IFERROR(VLOOKUP(L15,[4]DATOS!$L$2:$Q$6,MATCH(M15,[4]DATOS!$M$7:$Q$7,0)+1,0),"") -> Moderada | O15: Seguimiento al comportamiento de los consumos con un estudio de ecoeficiencia. | P15: Detectivo | Q15: Directora de regulación, calidad y medio ambiente | R15: Trimestral | S15: Débil | T15: Seguimiento al comportamiento de los consumos con un estudio de ecoeficiencia. | U15: Directora de regulación, calidad y medio ambiente | V15: Enero 2025 - Diciembre 2025 | W15: Informes de ecoeficiencia | X15: Semestral
K16: =IFERROR(VLOOKUP(I16,[4]DATOS!$L$2:$Q$6,MATCH(J16,[4]DATOS!$M$7:$Q$7,0)+1,0),"") | N16: =IFERROR(VLOOKUP(L16,[4]DATOS!$L$2:$Q$6,MATCH(M16,[4]DATOS!$M$7:$Q$7,0)+1,0),"") | R16: =IFERROR(INDEX([4]DATOS!$T$3:$T$6,MATCH(GA!N16,[4]DATOS!$S$3:$S$6,0)),"") | S16: =IFERROR(INDEX('[4]Evaluación de riesgos'!$P$9:$P$28,MATCH(GA!O16,'[4]Evaluación de riesgos'!$B$9:$B$28,0)),"")
K17: =IFERROR(VLOOKUP(I17,[4]DATOS!$L$2:$Q$6,MATCH(J17,[4]DATOS!$M$7:$Q$7,0)+1,0),"") | N17: =IFERROR(VLOOKUP(L17,[4]DATOS!$L$2:$Q$6,MATCH(M17,[4]DATOS!$M$7:$Q$7,0)+1,0),"") | R17: =IFERROR(INDEX([4]DATOS!$T$3:$T$6,MATCH(GA!N17,[4]DATOS!$S$3:$S$6,0)),"") | S17: =IFERROR(INDEX('[4]Evaluación de riesgos'!$P$9:$P$28,MATCH(GA!O17,'[4]Evaluación de riesgos'!$B$9:$B$28,0)),"")
K18: =IFERROR(VLOOKUP(I18,[4]DATOS!$L$2:$Q$6,MATCH(J18,[4]DATOS!$M$7:$Q$7,0)+1,0),"") | N18: =IFERROR(VLOOKUP(L18,[4]DATOS!$L$2:$Q$6,MATCH(M18,[4]DATOS!$M$7:$Q$7,0)+1,0),"") | R18: =IFERROR(INDEX([4]DATOS!$T$3:$T$6,MATCH(GA!N18,[4]DATOS!$S$3:$S$6,0)),"") | S18: =IFERROR(INDEX('[4]Evaluación de riesgos'!$P$9:$P$28,MATCH(GA!O18,'[4]Evaluación de riesgos'!$B$9:$B$28,0)),"")
K19: =IFERROR(VLOOKUP(I19,[4]DATOS!$L$2:$Q$6,MATCH(J19,[4]DATOS!$M$7:$Q$7,0)+1,0),"") | N19: =IFERROR(VLOOKUP(L19,[4]DATOS!$L$2:$Q$6,MATCH(M19,[4]DATOS!$M$7:$Q$7,0)+1,0),"") | R19: =IFERROR(INDEX([4]DATOS!$T$3:$T$6,MATCH(GA!N19,[4]DATOS!$S$3:$S$6,0)),"") | S19: =IFERROR(INDEX('[4]Evaluación de riesgos'!$P$9:$P$28,MATCH(GA!O19,'[4]Evaluación de riesgos'!$B$9:$B$28,0)),"")
K20: =IFERROR(VLOOKUP(I20,[4]DATOS!$L$2:$Q$6,MATCH(J20,[4]DATOS!$M$7:$Q$7,0)+1,0),"") | N20: =IFERROR(VLOOKUP(L20,[4]DATOS!$L$2:$Q$6,MATCH(M20,[4]DATOS!$M$7:$Q$7,0)+1,0),"") | R20: =IFERROR(INDEX([4]DATOS!$T$3:$T$6,MATCH(GA!N20,[4]DATOS!$S$3:$S$6,0)),"") | S20: =IFERROR(INDEX('[4]Evaluación de riesgos'!$P$9:$P$28,MATCH(GA!O20,'[4]Evaluación de riesgos'!$B$9:$B$28,0)),"")
K21: =IFERROR(VLOOKUP(I21,[4]DATOS!$L$2:$Q$6,MATCH(J21,[4]DATOS!$M$7:$Q$7,0)+1,0),"") | N21: =IFERROR(VLOOKUP(L21,[4]DATOS!$L$2:$Q$6,MATCH(M21,[4]DATOS!$M$7:$Q$7,0)+1,0),"") | R21: =IFERROR(INDEX([4]DATOS!$T$3:$T$6,MATCH(GA!N21,[4]DATOS!$S$3:$S$6,0)),"") | S21: =IFERROR(INDEX('[4]Evaluación de riesgos'!$P$9:$P$28,MATCH(GA!O21,'[4]Evaluación de riesgos'!$B$9:$B$28,0)),"")
K22: =IFERROR(VLOOKUP(I22,[4]DATOS!$L$2:$Q$6,MATCH(J22,[4]DATOS!$M$7:$Q$7,0)+1,0),"") | N22: =IFERROR(VLOOKUP(L22,[4]DATOS!$L$2:$Q$6,MATCH(M22,[4]DATOS!$M$7:$Q$7,0)+1,0),"") | R22: =IFERROR(INDEX([4]DATOS!$T$3:$T$6,MATCH(GA!N22,[4]DATOS!$S$3:$S$6,0)),"") | S22: =IFERROR(INDEX('[4]Evaluación de riesgos'!$P$9:$P$28,MATCH(GA!O22,'[4]Evaluación de riesgos'!$B$9:$B$28,0)),"")
K23: =IFERROR(VLOOKUP(I23,[4]DATOS!$L$2:$Q$6,MATCH(J23,[4]DATOS!$M$7:$Q$7,0)+1,0),"") | N23: =IFERROR(VLOOKUP(L23,[4]DATOS!$L$2:$Q$6,MATCH(M23,[4]DATOS!$M$7:$Q$7,0)+1,0),"") | R23: =IFERROR(INDEX([4]DATOS!$T$3:$T$6,MATCH(GA!N23,[4]DATOS!$S$3:$S$6,0)),"") | S23: =IFERROR(INDEX('[4]Evaluación de riesgos'!$P$9:$P$28,MATCH(GA!O23,'[4]Evaluación de riesgos'!$B$9:$B$28,0)),"")
K24: =IFERROR(VLOOKUP(I24,[4]DATOS!$L$2:$Q$6,MATCH(J24,[4]DATOS!$M$7:$Q$7,0)+1,0),"") | N24: =IFERROR(VLOOKUP(L24,[4]DATOS!$L$2:$Q$6,MATCH(M24,[4]DATOS!$M$7:$Q$7,0)+1,0),"") | R24: =IFERROR(INDEX([4]DATOS!$T$3:$T$6,MATCH(GA!N24,[4]DATOS!$S$3:$S$6,0)),"") | S24: =IFERROR(INDEX('[4]Evaluación de riesgos'!$P$9:$P$28,MATCH(GA!O24,'[4]Evaluación de riesgos'!$B$9:$B$28,0)),"")
K25: =IFERROR(VLOOKUP(I25,[4]DATOS!$L$2:$Q$6,MATCH(J25,[4]DATOS!$M$7:$Q$7,0)+1,0),"") | N25: =IFERROR(VLOOKUP(L25,[4]DATOS!$L$2:$Q$6,MATCH(M25,[4]DATOS!$M$7:$Q$7,0)+1,0),"") | R25: =IFERROR(INDEX([4]DATOS!$T$3:$T$6,MATCH(GA!N25,[4]DATOS!$S$3:$S$6,0)),"") | S25: =IFERROR(INDEX('[4]Evaluación de riesgos'!$P$9:$P$28,MATCH(GA!O25,'[4]Evaluación de riesgos'!$B$9:$B$28,0)),"")
K26: =IFERROR(VLOOKUP(I26,[4]DATOS!$L$2:$Q$6,MATCH(J26,[4]DATOS!$M$7:$Q$7,0)+1,0),"") | N26: =IFERROR(VLOOKUP(L26,[4]DATOS!$L$2:$Q$6,MATCH(M26,[4]DATOS!$M$7:$Q$7,0)+1,0),"") | R26: =IFERROR(INDEX([4]DATOS!$T$3:$T$6,MATCH(GA!N26,[4]DATOS!$S$3:$S$6,0)),"") | S26: =IFERROR(INDEX('[4]Evaluación de riesgos'!$P$9:$P$28,MATCH(GA!O26,'[4]Evaluación de riesgos'!$B$9:$B$28,0)),"")
K27: =IFERROR(VLOOKUP(I27,[4]DATOS!$L$2:$Q$6,MATCH(J27,[4]DATOS!$M$7:$Q$7,0)+1,0),"") | N27: =IFERROR(VLOOKUP(L27,[4]DATOS!$L$2:$Q$6,MATCH(M27,[4]DATOS!$M$7:$Q$7,0)+1,0),"") | R27: =IFERROR(INDEX([4]DATOS!$T$3:$T$6,MATCH(GA!N27,[4]DATOS!$S$3:$S$6,0)),"") | S27: =IFERROR(INDEX('[4]Evaluación de riesgos'!$P$9:$P$28,MATCH(GA!O27,'[4]Evaluación de riesgos'!$B$9:$B$28,0)),"")
... K158: =IFERROR(VLOOKUP(I158,[4]DATOS!$L$2:$Q$6,MATCH(J158,[4]DATOS!$M$7:$Q$7,0)+1,0),"") | N158: =IFERROR(VLOOKUP(L158,[4]DATOS!$L$2:$Q$6,MATCH(M158,[4]DATOS!$M$7:$Q$7,0)+1,0),"") | R158: =IFERROR(INDEX([4]DATOS!$T$3:$T$6,MATCH(GA!N158,[4]DATOS!$S$3:$S$6,0)),"") | S158: =IFERROR(INDEX('[4]Evaluación de riesgos'!$P$9:$P$28,MATCH(GA!O158,'[4]Evaluación de riesgos'!$B$9:$B$28,0)),"")

Sheet GC
C1: FORMATO MAPA DE RIESGOS | W1: CÓDIGO: MC-F015
W2: VERSIÓN: 03
W3: VIGENTE DESDE: 18/01/2023
A5: IDENTIFICACIÓN DEL PROCESO
A6: Proceso | B6: Gestión Comercial
A7: Tipo de proceso | B7: Misional | G7: Responsable del análisis: | H7: Director Comercial.
A8: Objetivo del proceso | B8: Atender los procesos de facturación del servicio, suspensión del servicio, fraudes, medición de consumo y peticiones, quejas, reclamos y sugerencias (PQRS) de los usuarios del servicio de acueducto y alcantarillado.
A10: IDENTIFICACIÓN DEL RIESGO | H10: EVALUACIÓN DEL RIESGO INHERENTE | L10: EVALUACIÓN DEL RIESGO RESIDUAL | O10: CONTROLES | T10: OPCIONES DE TRATAMIENTO
A11: Código | B11: Descripción del riesgo (Ejemplo de eventos: Fallas, Incorrecta, Inoportuno, Inadecuado) | C11: Clase de Riesgo | D11: Causas del riesgo | G11: Asociado a Subsistema | H11: Efectos o Consecuencias (Ejemplo: Pérdida, Interrupción, Incumplimiento, Sanciones) | I11: Probabilidad | J11: Impacto | K11: Zona de riesgo inherente | L11: Probabilidad | M11: Impacto | N11: Zona de riesgo residual | O11: Detallado del Control | P11: Naturaleza del Control | Q11: Responsable del monitoreo | R11: Periodicidad del control | S11: Resultado de la evaluación del control | T11: Acciones de Tratamiento | U11: Responsable | V11: Fecha de ejecución (Fecha inicio - Fecha fin) | W11: Resultado Seguimiento | X11: Fecha de Seguimiento
D12: Contexto | E12: Factor | F12: Causa
A13: GC-R001 | B13: Incumplimiento del programa de Micromedición | C13: Operativo | D13: Interno | E13: Económico | F13: No realizar compra de equipos por parte de la empresa, no realizar la planificación en el Plan Anual de Adquisición | G13: Gestión de Calidad | H13: No Obtener de la empresa la medición de sus consumos reales mediante instrumentos tecnológicos apropiados | I13: 1. Rara Vez | J13: 3. Moderado | K13: =IFERROR(VLOOKUP(I13,[5]DATOS!$L$2:$Q$6,MATCH(J13,[5]DATOS!$M$7:$Q$7,0)+1,0),"") -> Moderada | L13: 1. Rara Vez | M13: 2. Menor | N13: =IFERROR(VLOOKUP(L13,[5]DATOS!$L$2:$Q$6,MATCH(M13,[5]DATOS!$M$7:$Q$7,0)+1,0),"") -> Baja | O13: Planificación y compra de los equipos conforme al plan Anual de Adquisición | P13: Preventivo | Q13: Profesional Universitario Comercial. | R13: Trimestral | S13: =IFERROR(INDEX('[5]Evaluación de riesgos'!$P$9:$P$28,MATCH(GC!O13,'[5]Evaluación de riesgos'!$B$9:$B$28,0)),"") -> Fuerte | T13: Compra equipos de medida, de acuerdo a la planificación previa. | U13: Director comercial.-Profesional para el cumplimiento de la Misión | V13: Ene 2025 - Dic 2025 | W13: Seguimiento contractual del proveedor | X13: Periódico.
C14: Operativo | D14: Externo | E14: Económico | F14: Pérdida de capacidad económica para pago del equipo por parte del usuario. | G14: Gestión de Calidad | H14: No Obtener de la empresa la medición de sus consumos reales mediante instrumentos tecnológicos apropiados | I14: 1. Rara Vez | J14: 3. Moderado | K14: =IFERROR(VLOOKUP(I14,[5]DATOS!$L$2:$Q$6,MATCH(J14,[5]DATOS!$M$7:$Q$7,0)+1,0),"") -> Moderada | L14: 1. Rara Vez | M14: 2. Menor | N14: =IFERROR(VLOOKUP(L14,[5]DATOS!$L$2:$Q$6,MATCH(M14,[5]DATOS!$M$7:$Q$7,0)+1,0),"") -> Baja | O14: Consulta estado de Medición aplicativo Siinco .Programar revisión según criterios | P14: Preventivo | Q14: Profesional Universitario Comercial. | R14: Trimestral | S14: =IFERROR(INDEX('[5]Evaluación de riesgos'!$P$9:$P$28,MATCH(GC!O14,'[5]Evaluación de riesgos'!$B$9:$B$28,0)),"") -> Fuerte | T14: Reporte sistema: Consulta estado de Medición (Programar revisión para determinar equipos >5años de uso, medición >3000 metros cúbicos, medidores en mal estado) | U14: Director comercial. - Técnico Coordinador Misión-Profesional para el cumplimiento de la Misión | V14: Ene 2025 - Dic 2025 | W14: CRITERIOS DE REVISIÓN 1. Revisión por petición del cliente 2. Revisión por programación 3. Revisión por Gestión interna de la Empresa. Para Garantizar el funcionamiento adecuado de los Equipos de medición, con el fin de contar con los consumos reales de los suscriptores y/o usuarios del servicio de acueducto del municipio y reducir los índices de agua no contabilizada. | X14: Periódico.
C15: Operativo | D15: Externo | E15: Personal | F15: Oposición por parte del usuario para la ejecución del proceso de Micromedición | G15: Gestión de Calidad | H15: No Obtener de la empresa la medición de sus consumos reales mediante instrumentos tecnológicos apropiados | I15: 1. Rara Vez | J15: 3. Moderado | K15: =IFERROR(VLOOKUP(I15,[5]DATOS!$L$2:$Q$6,MATCH(J15,[5]DATOS!$M$7:$Q$7,0)+1,0),"") -> Moderada | L15: 1. Rara Vez | M15: 2. Menor | N15: =IFERROR(VLOOKUP(L15,[5]DATOS!$L$2:$Q$6,MATCH(M15,[5]DATOS!$M$7:$Q$7,0)+1,0),"") -> Baja | O15: Reportes de los clientes internos, de los diferentes procesos de la gestión comercial (Suspensiones Reinstalaciones y PQR`S-Facturación)- Concientización de la importancia que los consumos se midan y que se cobre lo justo | P15: Preventivo | Q15: Profesional Universitario Comercial. | R15: Trimestral | S15: =IFERROR(INDEX('[5]Evaluación de riesgos'!$P$9:$P$28,MATCH(GC!O15,'[5]Evaluación de riesgos'!$B$9:$B$28,0)),"") -> Fuerte | T15: Ejecución del procedimiento de Micromedición | U15: Director comercial. - Técnico Coordinador Misión-Profesional para el cumplimiento de la Misión | V15: Ene 2025 - Dic 2025 | W15: CRITERIOS DE REVISIÓN 1. Revisión por petición del cliente 2. Revisión por programación 3. Revisión por Gestión interna de la Empresa. Para Garantizar el funcionamiento adecuado de los Equipos de medición, con el fin de contar con los consumos reales de los suscriptores y/o usuarios del servicio de acueducto del municipio y reducir los índices de agua no contabilizada. | X15: Periódico.
A16: GC-R002 | B16: Incumplimiento en los tiempos de respuesta o no contestar de fondo una petición. | C16: De Cumplimiento | D16: Del Proceso | E16: Personal | F16: Falta de capacitación en atención al usuario y actualización del marco normativo | G16: Gestión de Calidad | H16: Atención inadecuada a los ciudadanos del municipio. | I16: 2. Improbable | J16: 3. Moderado | K16: =IFERROR(VLOOKUP(I16,[5]DATOS!$L$2:$Q$6,MATCH(J16,[5]DATOS!$M$7:$Q$7,0)+1,0),"") -> Moderada | L16: 2. Improbable | M16: 3. Moderado | N16: =IFERROR(VLOOKUP(L16,[5]DATOS!$L$2:$Q$6,MATCH(M16,[5]DATOS!$M$7:$Q$7,0)+1,0),"") -> Moderada | O16: En el sistema comercial se efectúa control de calificación y calidad de la respuesta efectuada por parte de servicio al cliente. | P16: Detectivo | Q16: Profesional Universitario Comercial. | R16: Mensual | S16: =IFERROR(INDEX('[5]Evaluación de riesgos'!$P$9:$P$28,MATCH(GC!O16,'[5]Evaluación de riesgos'!$B$9:$B$28,0)),"") -> Débil | T16: Seguimiento al cumplimiento de los procedimientos establecidos para el proceso. | U16: Director comercial. | V16: Ene 2025 - Dic 2025 | W16: Tiempos de contestación medidos. | X16: Mensual
C17: De Cumplimiento | D17: Interno | E17: Personal | F17: Incumplimiento legal en la atención oportuna de una petición | G17: Gestión de Calidad | H17: Atención inadecuada a los ciudadanos del municipio. | I17: 2. Improbable | J17: 3. Moderado | K17: =IFERROR(VLOOKUP(I17,[5]DATOS!$L$2:$Q$6,MATCH(J17,[5]DATOS!$M$7:$Q$7,0)+1,0),"") -> Moderada | L17: 2. Improbable | M17: 3. Moderado | N17: =IFERROR(VLOOKUP(L17,[5]DATOS!$L$2:$Q$6,MATCH(M17,[5]DATOS!$M$7:$Q$7,0)+1,0),"") -> Moderada | O17: Tableros de control de términos con reporte de alertas del estado vencimiento PQRS. | P17: Preventivo | Q17: Profesional Universitario Comercial. | R17: Mensual | S17: =IFERROR(INDEX('[5]Evaluación de riesgos'!$P$9:$P$28,MATCH(GC!O17,'[5]Evaluación de riesgos'!$B$9:$B$28,0)),"") -> Débil | T17: verificación de tablero de control y vencimiento de términos | U17: Profesional Apoyo Gestión Administrativa | V17: Ene 2025 - Dic 2025 | W17: Disminución de tiempos de respuesta | X17: Mensual
C18: De Cumplimiento | D18: Interno | E18: Personal | F18: Indebida notificación | G18: Gestión de Calidad | H18: Atención inadecuada a los ciudadanos del municipio. | I18: 2. Improbable | J18: 3. Moderado | K18: =IFERROR(VLOOKUP(I18,[5]DATOS!$L$2:$Q$6,MATCH(J18,[5]DATOS!$M$7:$Q$7,0)+1,0),"") -> Moderada | L18: 2. Improbable | M18: 3. Moderado | N18: =IFERROR(VLOOKUP(L18,[5]DATOS!$L$2:$Q$6,MATCH(M18,[5]DATOS!$M$7:$Q$7,0)+1,0),"") -> Moderada | O18: Validación de la información recopilada en la notificación | P18: Preventivo | Q18: Profesional Universitario Comercial. | R18: Mensual | S18: =IFERROR(INDEX('[5]Evaluación de riesgos'!$P$9:$P$28,MATCH(GC!O18,'[5]Evaluación de riesgos'!$B$9:$B$28,0)),"") -> Débil | T18: Reuniones de seguimiento periódicas o extraordinarias. Acompañamiento jurídico para la resolver las diferentes PQR | U18: Director comercial.- Profesional Apoyo Gestión Administrativa | V18: Ene 2025 - Dic 2025 | W18: compromisos en los tiempos de respuesta revisión de las respuestas y la aplicación del marco normativo vigente | X18: Mensual
A19: GC-R003 | B19: No ingresar al sistema oportunamente nuevos usuarios. | C19: Operativo | D19: Del Proceso | E19: Personal | F19: No Asignar responsabilidades al personal involucrado al proceso, previa capacitación de ingreso de información al software comercial. | G19: Gestión de Calidad | H19: Deficiencia en la facturación del servicio. | I19: 1. Rara Vez | J19: 2. Menor | K19: =IFERROR(VLOOKUP(I19,[5]DATOS!$L$2:$Q$6,MATCH(J19,[5]DATOS!$M$7:$Q$7,0)+1,0),"") -> Baja | L19: 3. Posible | M19: 2. Menor | N19: =IFERROR(VLOOKUP(L19,[5]DATOS!$L$2:$Q$6,MATCH(M19,[5]DATOS!$M$7:$Q$7,0)+1,0),"") -> Moderada | O19: Seguimiento de los tiempos de ejecución y creación de la matricula | P19: Preventivo | Q19: Profesional Universitario Comercial. | R19: =IFERROR(INDEX([5]DATOS!$T$3:$T$6,MATCH(GC!N19,[5]DATOS!$S$3:$S$6,0)),"") -> Trimestral | S19: =IFERROR(INDEX('[5]Evaluación de riesgos'!$P$9:$P$28,MATCH(GC!O19,'[5]Evaluación de riesgos'!$B$9:$B$28,0)),"") -> Fuerte | T19: Seguimiento al cumplimiento de los procedimientos establecidos para el proceso. | U19: Director comercial. - Técnico Coordinador Misión-Profesional para el cumplimiento de la | V19: Ene 2025 - Dic 2025 | W19: Oportunidades de mejora en el procedimiento. | X19: Periódico.
C20: Operativo | D20: Externo | E20: Personal | F20: Acometida de acueducto sin realizar por parte el usuario | G20: Gestión de Calidad | H20: Deficiencia en la facturación del servicio. | I20: 1. Rara Vez | J20: 2. Menor | K20: =IFERROR(VLOOKUP(I20,[5]DATOS!$L$2:$Q$6,MATCH(J20,[5]DATOS!$M$7:$Q$7,0)+1,0),"") -> Baja | L20: 3. Posible | M20: 2. Menor | N20: =IFERROR(VLOOKUP(L20,[5]DATOS!$L$2:$Q$6,MATCH(M20,[5]DATOS!$M$7:$Q$7,0)+1,0),"") -> Moderada | O20: Validación solicitudes radicadas sin ejecutar Software Comercial | P20: Preventivo | Q20: Profesional Universitario Comercial. | R20: =IFERROR(INDEX([5]DATOS!$T$3:$T$6,MATCH(GC!N20,[5]DATOS!$S$3:$S$6,0)),"") -> Trimestral | S20: =IFERROR(INDEX('[5]Evaluación de riesgos'!$P$9:$P$28,MATCH(GC!O20,'[5]Evaluación de riesgos'!$B$9:$B$28,0)),"") -> Fuerte | T20: Validación reporte Software comercial radicaciones | U20: Profesional para el cumplimiento de la Misión. | V20: Ene 2025 - Dic 2025 | W20: Oportunidades de mejora en el procedimiento. | X20: Periódico.
C21: Operativo | D21: Interno | E21: Económico | F21: No realizar compra de equipos por parte de la empresa, no realizar la planificación en el Plan Anual de Adquisición | G21: Gestión de Calidad | H21: Deficiencia en la facturación del servicio. | I21: 1. Rara Vez | J21: 2. Menor | K21: =IFERROR(VLOOKUP(I21,[5]DATOS!$L$2:$Q$6,MATCH(J21,[5]DATOS!$M$7:$Q$7,0)+1,0),"") -> Baja | L21: 3. Posible | M21: 2. Menor | N21: =IFERROR(VLOOKUP(L21,[5]DATOS!$L$2:$Q$6,MATCH(M21,[5]DATOS!$M$7:$Q$7,0)+1,0),"") -> Moderada | O21: Planificación y compra de los equipos conforme al plan Anual de Adquisición | P21: Preventivo | Q21: Profesional Universitario Comercial. | R21: =IFERROR(INDEX([5]DATOS!$T$3:$T$6,MATCH(GC!N21,[5]DATOS!$S$3:$S$6,0)),"") -> Trimestral | S21: =IFERROR(INDEX('[5]Evaluación de riesgos'!$P$9:$P$28,MATCH(GC!O21,'[5]Evaluación de riesgos'!$B$9:$B$28,0)),"") -> Fuerte | T21: Compra equipos de medida, de acuerdo a la planificación previa. | U21: Compra equipos de medida, de acuerdo a la planificación previa. | V21: Ene 2025 - Dic 2025 | W21: Seguimiento contractual del proveedor | X21: Periódico.
A22: GC-R004 | B22: Aplicación de tarifas de manera incorrecta. | C22: Operativo | D22: Interno | E22: Procesos | F22: Error digitación al ingresar tarifas al Software Comercial | G22: Gestión de Calidad | H22: Deficiencia en la facturación del servicio. | I22: 1. Rara Vez | J22: 3. Moderado | K22: =IFERROR(VLOOKUP(I22,[5]DATOS!$L$2:$Q$6,MATCH(J22,[5]DATOS!$M$7:$Q$7,0)+1,0),"") -> Moderada | L22: 1. Rara Vez | M22: 3. Moderado | N22: =IFERROR(VLOOKUP(L22,[5]DATOS!$L$2:$Q$6,MATCH(M22,[5]DATOS!$M$7:$Q$7,0)+1,0),"") -> Moderada | O22: Sistema de copiado de tarifas de un mes a otro, por intermedio del Software Comercial Revisión tarifas de todos los ciclos, previo a la facturación. | P22: Preventivo | Q22: Profesional Universitario Comercial. | R22: Mensual | S22: =IFERROR(INDEX('[5]Evaluación de riesgos'!$P$9:$P$28,MATCH(GC!O22,'[5]Evaluación de riesgos'!$B$9:$B$28,0)),"") -> Fuerte | T22: Diagnóstico del procedimiento. | U22: Director comercial. - Técnico Coordinador Misión-Profesional para el cumplimiento de la Misión | V22: Ene 2025 - Dic 2025 | W22: Oportunidades de mejora en el procedimiento. | X22: Mensual
C23: Operativo | D23: Interno | E23: Tecnológico | F23: Liquidación errada de las tarifas del software Comercial- parametrización | G23: Gestión de Calidad | H23: Deficiencia en la facturación del servicio. | I23: 2. Improbable | J23: 3. Moderado | K23: =IFERROR(VLOOKUP(I23,[5]DATOS!$L$2:$Q$6,MATCH(J23,[5]DATOS!$M$7:$Q$7,0)+1,0),"") -> Moderada | L23: 2. Improbable | M23: 3. Moderado | N23: =IFERROR(VLOOKUP(L23,[5]DATOS!$L$2:$Q$6,MATCH(M23,[5]DATOS!$M$7:$Q$7,0)+1,0),"") -> Moderada | O23: Generación de alarmas en el sistema comercial. Liquidación manual aleatoria con simulador en Excel | P23: Preventivo | Q23: Profesional Universitario Comercial. | R23: Mensual | S23: =IFERROR(INDEX('[5]Evaluación de riesgos'!$P$9:$P$28,MATCH(GC!O23,'[5]Evaluación de riesgos'!$B$9:$B$28,0)),"") -> Fuerte | T23: Seguimiento al cumplimiento de los procedimientos establecidos para el proceso. | U23: Director comercial. - Técnico Coordinador Misión-Profesional para el cumplimiento de la Misión | V23: Ene 2025 - Dic 2025 | W23: Oportunidades de mejora en el procedimiento. | X23: Mensual
K24: =IFERROR(VLOOKUP(I24,[5]DATOS!$L$2:$Q$6,MATCH(J24,[5]DATOS!$M$7:$Q$7,0)+1,0),"") | N24: =IFERROR(VLOOKUP(L24,[5]DATOS!$L$2:$Q$6,MATCH(M24,[5]DATOS!$M$7:$Q$7,0)+1,0),"")
K25: =IFERROR(VLOOKUP(I25,[5]DATOS!$L$2:$Q$6,MATCH(J25,[5]DATOS!$M$7:$Q$7,0)+1,0),"") | N25: =IFERROR(VLOOKUP(L25,[5]DATOS!$L$2:$Q$6,MATCH(M25,[5]DATOS!$M$7:$Q$7,0)+1,0),"")
K26: =IFERROR(VLOOKUP(I26,[5]DATOS!$L$2:$Q$6,MATCH(J26,[5]DATOS!$M$7:$Q$7,0)+1,0),"") | N26: =IFERROR(VLOOKUP(L26,[5]DATOS!$L$2:$Q$6,MATCH(M26,[5]DATOS!$M$7:$Q$7,0)+1,0),"")
K27: =IFERROR(VLOOKUP(I27,[5]DATOS!$L$2:$Q$6,MATCH(J27,[5]DATOS!$M$7:$Q$7,0)+1,0),"") | N27: =IFERROR(VLOOKUP(L27,[5]DATOS!$L$2:$Q$6,MATCH(M27,[5]DATOS!$M$7:$Q$7,0)+1,0),"")
K28: =IFERROR(VLOOKUP(I28,[5]DATOS!$L$2:$Q$6,MATCH(J28,[5]DATOS!$M$7:$Q$7,0)+1,0),"") | N28: =IFERROR(VLOOKUP(L28,[5]DATOS!$L$2:$Q$6,MATCH(M28,[5]DATOS!$M$7:$Q$7,0)+1,0),"")
K29: =IFERROR(VLOOKUP(I29,[5]DATOS!$L$2:$Q$6,MATCH(J29,[5]DATOS!$M$7:$Q$7,0)+1,0),"") | N29: =IFERROR(VLOOKUP(L29,[5]DATOS!$L$2:$Q$6,MATCH(M29,[5]DATOS!$M$7:$Q$7,0)+1,0),"")
K30: =IFERROR(VLOOKUP(I30,[5]DATOS!$L$2:$Q$6,MATCH(J30,[5]DATOS!$M$7:$Q$7,0)+1,0),"") | N30: =IFERROR(VLOOKUP(L30,[5]DATOS!$L$2:$Q$6,MATCH(M30,[5]DATOS!$M$7:$Q$7,0)+1,0),"") | R30: =IFERROR(INDEX([5]DATOS!$T$3:$T$6,MATCH(GC!N30,[5]DATOS!$S$3:$S$6,0)),"") | S30: =IFERROR(INDEX('[5]Evaluación de riesgos'!$P$9:$P$28,MATCH(GC!O30,'[5]Evaluación de riesgos'!$B$9:$B$28,0)),"")
K31: =IFERROR(VLOOKUP(I31,[5]DATOS!$L$2:$Q$6,MATCH(J31,[5]DATOS!$M$7:$Q$7,0)+1,0),"") | N31: =IFERROR(VLOOKUP(L31,[5]DATOS!$L$2:$Q$6,MATCH(M31,[5]DATOS!$M$7:$Q$7,0)+1,0),"") | R31: =IFERROR(INDEX([5]DATOS!$T$3:$T$6,MATCH(GC!N31,[5]DATOS!$S$3:$S$6,0)),"") | S31: =IFERROR(INDEX('[5]Evaluación de riesgos'!$P$9:$P$28,MATCH(GC!O31,'[5]Evaluación de riesgos'!$B$9:$B$28,0)),"")
K32: =IFERROR(VLOOKUP(I32,[5]DATOS!$L$2:$Q$6,MATCH(J32,[5]DATOS!$M$7:$Q$7,0)+1,0),"") | N32: =IFERROR(VLOOKUP(L32,[5]DATOS!$L$2:$Q$6,MATCH(M32,[5]DATOS!$M$7:$Q$7,0)+1,0),"") | R32: =IFERROR(INDEX([5]DATOS!$T$3:$T$6,MATCH(GC!N32,[5]DATOS!$S$3:$S$6,0)),"") | S32: =IFERROR(INDEX('[5]Evaluación de riesgos'!$P$9:$P$28,MATCH(GC!O32,'[5]Evaluación de riesgos'!$B$9:$B$28,0)),"")
K33: =IFERROR(VLOOKUP(I33,[5]DATOS!$L$2:$Q$6,MATCH(J33,[5]DATOS!$M$7:$Q$7,0)+1,0),"") | N33: =IFERROR(VLOOKUP(L33,[5]DATOS!$L$2:$Q$6,MATCH(M33,[5]DATOS!$M$7:$Q$7,0)+1,0),"") | R33: =IFERROR(INDEX([5]DATOS!$T$3:$T$6,MATCH(GC!N33,[5]DATOS!$S$3:$S$6,0)),"") | S33: =IFERROR(INDEX('[5]Evaluación de riesgos'!$P$9:$P$28,MATCH(GC!O33,'[5]Evaluación de riesgos'!$B$9:$B$28,0)),"")
K34: =IFERROR(VLOOKUP(I34,[5]DATOS!$L$2:$Q$6,MATCH(J34,[5]DATOS!$M$7:$Q$7,0)+1,0),"") | N34: =IFERROR(VLOOKUP(L34,[5]DATOS!$L$2:$Q$6,MATCH(M34,[5]DATOS!$M$7:$Q$7,0)+1,0),"") | R34: =IFERROR(INDEX([5]DATOS!$T$3:$T$6,MATCH(GC!N34,[5]DATOS!$S$3:$S$6,0)),"") | S34: =IFERROR(INDEX('[5]Evaluación de riesgos'!$P$9:$P$28,MATCH(GC!O34,'[5]Evaluación de riesgos'!$B$9:$B$28,0)),"")
K35: =IFERROR(VLOOKUP(I35,[5]DATOS!$L$2:$Q$6,MATCH(J35,[5]DATOS!$M$7:$Q$7,0)+1,0),"") | N35: =IFERROR(VLOOKUP(L35,[5]DATOS!$L$2:$Q$6,MATCH(M35,[5]DATOS!$M$7:$Q$7,0)+1,0),"") | R35: =IFERROR(INDEX([5]DATOS!$T$3:$T$6,MATCH(GC!N35,[5]DATOS!$S$3:$S$6,0)),"") | S35: =IFERROR(INDEX('[5]Evaluación de riesgos'!$P$9:$P$28,MATCH(GC!O35,'[5]Evaluación de riesgos'!$B$9:$B$28,0)),"")
K36: =IFERROR(VLOOKUP(I36,[5]DATOS!$L$2:$Q$6,MATCH(J36,[5]DATOS!$M$7:$Q$7,0)+1,0),"") | N36: =IFERROR(VLOOKUP(L36,[5]DATOS!$L$2:$Q$6,MATCH(M36,[5]DATOS!$M$7:$Q$7,0)+1,0),"") | R36: =IFERROR(INDEX([5]DATOS!$T$3:$T$6,MATCH(GC!N36,[5]DATOS!$S$3:$S$6,0)),"") | S36: =IFERROR(INDEX('[5]Evaluación de riesgos'!$P$9:$P$28,MATCH(GC!O36,'[5]Evaluación de riesgos'!$B$9:$B$28,0)),"")
K37: =IFERROR(VLOOKUP(I37,[5]DATOS!$L$2:$Q$6,MATCH(J37,[5]DATOS!$M$7:$Q$7,0)+1,0),"") | N37: =IFERROR(VLOOKUP(L37,[5]DATOS!$L$2:$Q$6,MATCH(M37,[5]DATOS!$M$7:$Q$7,0)+1,0),"") | R37: =IFERROR(INDEX([5]DATOS!$T$3:$T$6,MATCH(GC!N37,[5]DATOS!$S$3:$S$6,0)),"") | S37: =IFERROR(INDEX('[5]Evaluación de riesgos'!$P$9:$P$28,MATCH(GC!O37,'[5]Evaluación de riesgos'!$B$9:$B$28,0)),"")
K38: =IFERROR(VLOOKUP(I38,[5]DATOS!$L$2:$Q$6,MATCH(J38,[5]DATOS!$M$7:$Q$7,0)+1,0),"") | N38: =IFERROR(VLOOKUP(L38,[5]DATOS!$L$2:$Q$6,MATCH(M38,[5]DATOS!$M$7:$Q$7,0)+1,0),"") | R38: =IFERROR(INDEX([5]DATOS!$T$3:$T$6,MATCH(GC!N38,[5]DATOS!$S$3:$S$6,0)),"") | S38: =IFERROR(INDEX('[5]Evaluación de riesgos'!$P$9:$P$28,MATCH(GC!O38,'[5]Evaluación de riesgos'!$B$9:$B$28,0)),"")
K39: =IFERROR(VLOOKUP(I39,[5]DATOS!$L$2:$Q$6,MATCH(J39,[5]DATOS!$M$7:$Q$7,0)+1,0),"") | N39: =IFERROR(VLOOKUP(L39,[5]DATOS!$L$2:$Q$6,MATCH(M39,[5]DATOS!$M$7:$Q$7,0)+1,0),"") | R39: =IFERROR(INDEX([5]DATOS!$T$3:$T$6,MATCH(GC!N39,[5]DATOS!$S$3:$S$6,0)),"") | S39: =IFERROR(INDEX('[5]Evaluación de riesgos'!$P$9:$P$28,MATCH(GC!O39,'[5]Evaluación de riesgos'!$B$9:$B$28,0)),"")
K40: =IFERROR(VLOOKUP(I40,[5]DATOS!$L$2:$Q$6,MATCH(J40,[5]DATOS!$M$7:$Q$7,0)+1,0),"") | N40: =IFERROR(VLOOKUP(L40,[5]DATOS!$L$2:$Q$6,MATCH(M40,[5]DATOS!$M$7:$Q$7,0)+1,0),"") | R40: =IFERROR(INDEX([5]DATOS!$T$3:$T$6,MATCH(GC!N40,[5]DATOS!$S$3:$S$6,0)),"") | S40: =IFERROR(INDEX('[5]Evaluación de riesgos'!$P$9:$P$28,MATCH(GC!O40,'[5]Evaluación de riesgos'!$B$9:$B$28,0)),"")
K41: =IFERROR(VLOOKUP(I41,[5]DATOS!$L$2:$Q$6,MATCH(J41,[5]DATOS!$M$7:$Q$7,0)+1,0),"") | N41: =IFERROR(VLOOKUP(L41,[5]DATOS!$L$2:$Q$6,MATCH(M41,[5]DATOS!$M$7:$Q$7,0)+1,0),"") | R41: =IFERROR(INDEX([5]DATOS!$T$3:$T$6,MATCH(GC!N41,[5]DATOS!$S$3:$S$6,0)),"") | S41: =IFERROR(INDEX('[5]Evaluación de riesgos'!$P$9:$P$28,MATCH(GC!O41,'[5]Evaluación de riesgos'!$B$9:$B$28,0)),"")
